BEGIN:VCALENDAR
VERSION:2.0
PRODID:-//Tee-Ball Association of WA - ECPv6.15.20//NONSGML v1.0//EN
CALSCALE:GREGORIAN
METHOD:PUBLISH
X-WR-CALNAME:Tee-Ball Association of WA
X-ORIGINAL-URL:https://tbawa.com.au
X-WR-CALDESC:Events for Tee-Ball Association of WA
REFRESH-INTERVAL;VALUE=DURATION:PT1H
X-Robots-Tag:noindex
X-PUBLISHED-TTL:PT1H
BEGIN:VTIMEZONE
TZID:Australia/Perth
BEGIN:STANDARD
TZOFFSETFROM:+0800
TZOFFSETTO:+0800
TZNAME:AWST
DTSTART:20220101T000000
END:STANDARD
END:VTIMEZONE
BEGIN:VEVENT
DTSTART;TZID=Australia/Perth:20260118T080000
DTEND;TZID=Australia/Perth:20260118T170000
DTSTAMP:20260422T031145
CREATED:20250901T000048Z
LAST-MODIFIED:20250915T125732Z
UID:10000119-1768723200-1768755600@tbawa.com.au
SUMMARY:Morley Eagles Pre State Carnival
DESCRIPTION:Morley Eagles Teeball Club are excited to be holding our annual Pre-State Carnival. \nThe Carnival is open to State grades U9’s\, U10’s\, U11’s\, U12’s\, U13’s. Nominations do not guarantee an invitation to the Pre-State Carnival due to allocated time slots and age groups.\n\nWait listed teams/clubs will be notified by the States Coordinators.\n\nTo register\, please contact our State Coordinators to nominate your teams by emailing states@morleyeaglesteeball.org\n 
URL:https://tbawa.com.au/event/morley-eagles-pre-state-carnival-2026/
LOCATION:Lightning Park\, Noranda\, 30 Della Rd\, Noranda\, WA\, 6062\, Australia
CATEGORIES:Pre State Carnivals
GEO:-31.869097964501;115.91504453101
X-APPLE-STRUCTURED-LOCATION;VALUE=URI;X-ADDRESS=Lightning Park Noranda 30 Della Rd Noranda WA 6062 Australia;X-APPLE-RADIUS=500;X-TITLE=30 Della Rd:geo:115.91504453101,-31.869097964501
END:VEVENT
BEGIN:VEVENT
DTSTART;TZID=Australia/Perth:20251012T083000
DTEND;TZID=Australia/Perth:20251012T123000
DTSTAMP:20260422T031145
CREATED:20250805T100309Z
LAST-MODIFIED:20251006T000036Z
UID:10000110-1760257800-1760272200@tbawa.com.au
SUMMARY:Umpiring L1 Clinic - Morley Eagles
DESCRIPTION:Content is protected.
URL:https://tbawa.com.au/event/umpiring-l1-clinic-morley-2025/
LOCATION:Lightning Park\, Noranda\, 30 Della Rd\, Noranda\, WA\, 6062\, Australia
CATEGORIES:Umpiring Clinic
GEO:-31.869097964501;115.91504453101
X-APPLE-STRUCTURED-LOCATION;VALUE=URI;X-ADDRESS=Lightning Park Noranda 30 Della Rd Noranda WA 6062 Australia;X-APPLE-RADIUS=500;X-TITLE=30 Della Rd:geo:115.91504453101,-31.869097964501
END:VEVENT
BEGIN:VEVENT
DTSTART;TZID=Australia/Perth:20251012T083000
DTEND;TZID=Australia/Perth:20251012T123000
DTSTAMP:20260422T031145
CREATED:20250802T132250Z
LAST-MODIFIED:20250802T133944Z
UID:10000103-1760257800-1760272200@tbawa.com.au
SUMMARY:Coaching Clinic - Morley Eagles
DESCRIPTION:
URL:https://tbawa.com.au/event/coaching-clinic-morley-eagles-2025/
LOCATION:Lightning Park\, Noranda\, 30 Della Rd\, Noranda\, WA\, 6062\, Australia
CATEGORIES:Coaching Clinic
GEO:-31.869097964501;115.91504453101
X-APPLE-STRUCTURED-LOCATION;VALUE=URI;X-ADDRESS=Lightning Park Noranda 30 Della Rd Noranda WA 6062 Australia;X-APPLE-RADIUS=500;X-TITLE=30 Della Rd:geo:115.91504453101,-31.869097964501
END:VEVENT
BEGIN:VEVENT
DTSTART;TZID=Australia/Perth:20250118T123000
DTEND;TZID=Australia/Perth:20250118T143000
DTSTAMP:20260422T031145
CREATED:20241206T101958Z
LAST-MODIFIED:20241206T101958Z
UID:10000089-1737203400-1737210600@tbawa.com.au
SUMMARY:State Champs Accreditation (SCA) - Morley Eagles
DESCRIPTION:
URL:https://tbawa.com.au/event/state-champs-accreditation-sca-morley-jan-2025/
LOCATION:Lightning Park\, Noranda\, 30 Della Rd\, Noranda\, WA\, 6062\, Australia
CATEGORIES:Umpiring Clinic
GEO:-31.869097964501;115.91504453101
X-APPLE-STRUCTURED-LOCATION;VALUE=URI;X-ADDRESS=Lightning Park Noranda 30 Della Rd Noranda WA 6062 Australia;X-APPLE-RADIUS=500;X-TITLE=30 Della Rd:geo:115.91504453101,-31.869097964501
END:VEVENT
BEGIN:VEVENT
DTSTART;TZID=Australia/Perth:20250118T083000
DTEND;TZID=Australia/Perth:20250118T123000
DTSTAMP:20260422T031145
CREATED:20241206T101229Z
LAST-MODIFIED:20241225T141516Z
UID:10000088-1737189000-1737203400@tbawa.com.au
SUMMARY:Coaching Clinic - Morley
DESCRIPTION:
URL:https://tbawa.com.au/event/coaching-clinic-morley-jan-2025/
LOCATION:Lightning Park\, Noranda\, 30 Della Rd\, Noranda\, WA\, 6062\, Australia
CATEGORIES:Coaching Clinic
GEO:-31.869097964501;115.91504453101
X-APPLE-STRUCTURED-LOCATION;VALUE=URI;X-ADDRESS=Lightning Park Noranda 30 Della Rd Noranda WA 6062 Australia;X-APPLE-RADIUS=500;X-TITLE=30 Della Rd:geo:115.91504453101,-31.869097964501
END:VEVENT
BEGIN:VEVENT
DTSTART;TZID=Australia/Perth:20250118T083000
DTEND;TZID=Australia/Perth:20250118T123000
DTSTAMP:20260422T031145
CREATED:20241206T101138Z
LAST-MODIFIED:20241225T141005Z
UID:10000087-1737189000-1737203400@tbawa.com.au
SUMMARY:Umpiring L1 Clinic - Morley
DESCRIPTION:
URL:https://tbawa.com.au/event/umpiring-l1-clinic-morley-jan-2025/
LOCATION:Lightning Park\, Noranda\, 30 Della Rd\, Noranda\, WA\, 6062\, Australia
CATEGORIES:Umpiring Clinic
GEO:-31.869097964501;115.91504453101
X-APPLE-STRUCTURED-LOCATION;VALUE=URI;X-ADDRESS=Lightning Park Noranda 30 Della Rd Noranda WA 6062 Australia;X-APPLE-RADIUS=500;X-TITLE=30 Della Rd:geo:115.91504453101,-31.869097964501
END:VEVENT
BEGIN:VEVENT
DTSTART;TZID=Australia/Perth:20241027T083000
DTEND;TZID=Australia/Perth:20241027T123000
DTSTAMP:20260422T031145
CREATED:20240701T024114Z
LAST-MODIFIED:20240701T024114Z
UID:10000066-1730017800-1730032200@tbawa.com.au
SUMMARY:Coaching Clinic - Morley
DESCRIPTION:
URL:https://tbawa.com.au/event/coaching-clinic-morley/
LOCATION:Lightning Park\, Noranda\, 30 Della Rd\, Noranda\, WA\, 6062\, Australia
CATEGORIES:Coaching Clinic
GEO:-31.869097964501;115.91504453101
X-APPLE-STRUCTURED-LOCATION;VALUE=URI;X-ADDRESS=Lightning Park Noranda 30 Della Rd Noranda WA 6062 Australia;X-APPLE-RADIUS=500;X-TITLE=30 Della Rd:geo:115.91504453101,-31.869097964501
END:VEVENT
BEGIN:VEVENT
DTSTART;TZID=Australia/Perth:20241027T083000
DTEND;TZID=Australia/Perth:20241027T123000
DTSTAMP:20260422T031145
CREATED:20240701T023921Z
LAST-MODIFIED:20240701T023921Z
UID:10000065-1730017800-1730032200@tbawa.com.au
SUMMARY:Umpiring L1 Clinic - Morley
DESCRIPTION:Presenters : Barry Broanda & Rick Moore
URL:https://tbawa.com.au/event/umpiring-l1-clinic-morley/
LOCATION:Lightning Park\, Noranda\, 30 Della Rd\, Noranda\, WA\, 6062\, Australia
CATEGORIES:Umpiring Clinic
GEO:-31.869097964501;115.91504453101
X-APPLE-STRUCTURED-LOCATION;VALUE=URI;X-ADDRESS=Lightning Park Noranda 30 Della Rd Noranda WA 6062 Australia;X-APPLE-RADIUS=500;X-TITLE=30 Della Rd:geo:115.91504453101,-31.869097964501
END:VEVENT
BEGIN:VEVENT
DTSTART;TZID=Australia/Perth:20240114T080000
DTEND;TZID=Australia/Perth:20240114T170000
DTSTAMP:20260422T031145
CREATED:20231110T024626Z
LAST-MODIFIED:20231110T024626Z
UID:10000044-1705219200-1705251600@tbawa.com.au
SUMMARY:Morley Eagles Pre State Carnival
DESCRIPTION:Morley Eagles will be hosting their annual Pre-state Carnival slightly earlier than other years due to the Australia Day long weekend in 2024. \nThe Carnival will be open to grades U9\, U10\, U11\, U12 & U13 \nAll nominations will be considered; however\, this does not guarantee an invitation to the Carnival. \nCanteen and Food trucks will be available. \nFor further information regarding the carnival or to nominate team(s) please contact the club: states@morleyeaglesteeball.org \n 
URL:https://tbawa.com.au/event/morley-eagles-pre-state-carnival/
LOCATION:Lightning Park\, Noranda\, 30 Della Rd\, Noranda\, WA\, 6062\, Australia
GEO:-31.869097964501;115.91504453101
X-APPLE-STRUCTURED-LOCATION;VALUE=URI;X-ADDRESS=Lightning Park Noranda 30 Della Rd Noranda WA 6062 Australia;X-APPLE-RADIUS=500;X-TITLE=30 Della Rd:geo:115.91504453101,-31.869097964501
END:VEVENT
BEGIN:VEVENT
DTSTART;TZID=Australia/Perth:20231015T083000
DTEND;TZID=Australia/Perth:20231015T123000
DTSTAMP:20260422T031145
CREATED:20230905T223116Z
LAST-MODIFIED:20230905T223116Z
UID:10000035-1697358600-1697373000@tbawa.com.au
SUMMARY:Umpiring L1 Clinic - Morley Eagles
DESCRIPTION:Presenters : Rick Moore\, Rebecca Seeber & Greg Mount Bryson
URL:https://tbawa.com.au/event/umpiring-l1-clinic-morley-eagles/
LOCATION:Lightning Park\, Noranda\, 30 Della Rd\, Noranda\, WA\, 6062\, Australia
CATEGORIES:Umpiring Clinic
GEO:-31.869097964501;115.91504453101
X-APPLE-STRUCTURED-LOCATION;VALUE=URI;X-ADDRESS=Lightning Park Noranda 30 Della Rd Noranda WA 6062 Australia;X-APPLE-RADIUS=500;X-TITLE=30 Della Rd:geo:115.91504453101,-31.869097964501
END:VEVENT
BEGIN:VEVENT
DTSTART;TZID=Australia/Perth:20231015T083000
DTEND;TZID=Australia/Perth:20231015T123000
DTSTAMP:20260422T031145
CREATED:20230727T012359Z
LAST-MODIFIED:20230727T012359Z
UID:10000013-1697358600-1697373000@tbawa.com.au
SUMMARY:Coaching Clinic - Morley Eagles
DESCRIPTION:
URL:https://tbawa.com.au/event/coaching-clinic-morley-eagles/
LOCATION:Lightning Park\, Noranda\, 30 Della Rd\, Noranda\, WA\, 6062\, Australia
CATEGORIES:Coaching Clinic
GEO:-31.869097964501;115.91504453101
X-APPLE-STRUCTURED-LOCATION;VALUE=URI;X-ADDRESS=Lightning Park Noranda 30 Della Rd Noranda WA 6062 Australia;X-APPLE-RADIUS=500;X-TITLE=30 Della Rd:geo:115.91504453101,-31.869097964501
END:VEVENT
END:VCALENDAR