BEGIN:VCALENDAR
VERSION:2.0
PRODID:-//Tee-Ball Association of WA - ECPv6.15.20//NONSGML v1.0//EN
CALSCALE:GREGORIAN
METHOD:PUBLISH
X-ORIGINAL-URL:https://tbawa.com.au
X-WR-CALDESC:Events for Tee-Ball Association of WA
REFRESH-INTERVAL;VALUE=DURATION:PT1H
X-Robots-Tag:noindex
X-PUBLISHED-TTL:PT1H
BEGIN:VTIMEZONE
TZID:Australia/Perth
BEGIN:STANDARD
TZOFFSETFROM:+0800
TZOFFSETTO:+0800
TZNAME:AWST
DTSTART:20230101T000000
END:STANDARD
END:VTIMEZONE
BEGIN:VEVENT
DTSTART;TZID=Australia/Perth:20241013T083000
DTEND;TZID=Australia/Perth:20241013T123000
DTSTAMP:20260423T173756
CREATED:20240613T051607Z
LAST-MODIFIED:20240613T051607Z
UID:10000059-1728808200-1728822600@tbawa.com.au
SUMMARY:Umpiring L1 Clinic - Kardinya
DESCRIPTION:Presenters : Chris Hardwick & Glen Bakranich
URL:https://tbawa.com.au/event/umpiring-l1-clinic-kardinya/
LOCATION:Morris Buzacott Reserve\, kardinya community centre\, kardinya\, wa\, 6150\, Australia
CATEGORIES:Umpiring Clinic
ORGANIZER;CN="Kardinya Red Sox Ball Club":MAILTO:registrar@kardinyaredsox.org.au
GEO:-32.063104973087;115.82520611987
X-APPLE-STRUCTURED-LOCATION;VALUE=URI;X-ADDRESS=Morris Buzacott Reserve kardinya community centre kardinya wa 6150 Australia;X-APPLE-RADIUS=500;X-TITLE=kardinya community centre:geo:115.82520611987,-32.063104973087
END:VEVENT
BEGIN:VEVENT
DTSTART;TZID=Australia/Perth:20241013T083000
DTEND;TZID=Australia/Perth:20241013T123000
DTSTAMP:20260423T173757
CREATED:20240620T074816Z
LAST-MODIFIED:20240620T074816Z
UID:10000062-1728808200-1728822600@tbawa.com.au
SUMMARY:Umpiring L1 Clinic - Wanneroo Joondalup
DESCRIPTION:Presenters : Paul Planken\, Greg Mount Bryson\, Rick Moore \nWe advise attendees to park as per https://maps.app.goo.gl/daJCcZRo3UwT8WGh7 due to site renovation restrictions.
URL:https://tbawa.com.au/event/umpiring-l1-clinic-wanneroo-joondalup-2/
LOCATION:Percy Doyle Reserve\, Percy Doyle Reserve\, Beddi Rd\, Duncraig\, WA\, AUS
CATEGORIES:Umpiring Clinic
ORGANIZER;CN="Wanneroo Joondalup Tee Ball Club":MAILTO:registrar@wjtbc.org.au
GEO:-31.8366559;115.7680905
X-APPLE-STRUCTURED-LOCATION;VALUE=URI;X-ADDRESS=Percy Doyle Reserve Percy Doyle Reserve Beddi Rd Duncraig WA AUS;X-APPLE-RADIUS=500;X-TITLE=Percy Doyle Reserve\, Beddi Rd:geo:115.7680905,-31.8366559
END:VEVENT
BEGIN:VEVENT
DTSTART;TZID=Australia/Perth:20241020T083000
DTEND;TZID=Australia/Perth:20241020T123000
DTSTAMP:20260423T173757
CREATED:20240702T045920Z
LAST-MODIFIED:20240702T045920Z
UID:10000070-1729413000-1729427400@tbawa.com.au
SUMMARY:Umpiring L1 Clinic - Thornlie and Districts
DESCRIPTION:Presenters : Colin Gibb\, Annaliese Arndt\, Geoff Watson
URL:https://tbawa.com.au/event/umpiring-l1-clinic-thornlie-and-districts/
LOCATION:Sutherlands Park\, Sutherlands Park\, Holmes Road\, Huntingdale\, WA
CATEGORIES:Umpiring Clinic
GEO:-32.09661243956;115.96400560645
X-APPLE-STRUCTURED-LOCATION;VALUE=URI;X-ADDRESS=Sutherlands Park Sutherlands Park Holmes Road Huntingdale WA;X-APPLE-RADIUS=500;X-TITLE=Sutherlands Park\, Holmes Road:geo:115.96400560645,-32.09661243956
END:VEVENT
BEGIN:VEVENT
DTSTART;TZID=Australia/Perth:20241027T083000
DTEND;TZID=Australia/Perth:20241027T123000
DTSTAMP:20260423T173757
CREATED:20240701T023921Z
LAST-MODIFIED:20240701T023921Z
UID:10000065-1730017800-1730032200@tbawa.com.au
SUMMARY:Umpiring L1 Clinic - Morley
DESCRIPTION:Presenters : Barry Broanda & Rick Moore
URL:https://tbawa.com.au/event/umpiring-l1-clinic-morley/
LOCATION:Lightning Park\, Noranda\, 30 Della Rd\, Noranda\, WA\, 6062\, Australia
CATEGORIES:Umpiring Clinic
GEO:-31.869097964501;115.91504453101
X-APPLE-STRUCTURED-LOCATION;VALUE=URI;X-ADDRESS=Lightning Park Noranda 30 Della Rd Noranda WA 6062 Australia;X-APPLE-RADIUS=500;X-TITLE=30 Della Rd:geo:115.91504453101,-31.869097964501
END:VEVENT
BEGIN:VEVENT
DTSTART;TZID=Australia/Perth:20241102T123000
DTEND;TZID=Australia/Perth:20241102T163000
DTSTAMP:20260423T173757
CREATED:20240701T024405Z
LAST-MODIFIED:20240701T024405Z
UID:10000067-1730550600-1730565000@tbawa.com.au
SUMMARY:Umpiring L1 Clinic - Goldfields
DESCRIPTION:Presenters : Paul Planken & John Van Emmerloot
URL:https://tbawa.com.au/event/umpiring-l1-clinic-goldfields/
LOCATION:Oasis Playing Fields\, Osmetti Drive\, Boulder\, WA\, Australia
CATEGORIES:Umpiring Clinic
GEO:-30.7738796;121.4608146
X-APPLE-STRUCTURED-LOCATION;VALUE=URI;X-ADDRESS=Oasis Playing Fields Osmetti Drive Boulder WA Australia;X-APPLE-RADIUS=500;X-TITLE=Osmetti Drive:geo:121.4608146,-30.7738796
END:VEVENT
BEGIN:VEVENT
DTSTART;TZID=Australia/Perth:20241110T083000
DTEND;TZID=Australia/Perth:20241110T123000
DTSTAMP:20260423T173757
CREATED:20240807T084116Z
LAST-MODIFIED:20240807T084116Z
UID:10000075-1731227400-1731241800@tbawa.com.au
SUMMARY:Umpiring L1 Clinic - Forrestfield
DESCRIPTION:Presenters : Chris Hardwick & Annaliese Arndt
URL:https://tbawa.com.au/event/umpiring-l1-clinic-forrestfield/
LOCATION:Hartfield Park\, 62 Hartfield Road\, Forrestfield\, WA\, Australia
CATEGORIES:Umpiring Clinic
GEO:-31.995877198678;116.00458497103
X-APPLE-STRUCTURED-LOCATION;VALUE=URI;X-ADDRESS=Hartfield Park 62 Hartfield Road Forrestfield WA Australia;X-APPLE-RADIUS=500;X-TITLE=62 Hartfield Road:geo:116.00458497103,-31.995877198678
END:VEVENT
BEGIN:VEVENT
DTSTART;TZID=Australia/Perth:20250118T083000
DTEND;TZID=Australia/Perth:20250118T123000
DTSTAMP:20260423T173757
CREATED:20241206T101138Z
LAST-MODIFIED:20241225T141005Z
UID:10000087-1737189000-1737203400@tbawa.com.au
SUMMARY:Umpiring L1 Clinic - Morley
DESCRIPTION:
URL:https://tbawa.com.au/event/umpiring-l1-clinic-morley-jan-2025/
LOCATION:Lightning Park\, Noranda\, 30 Della Rd\, Noranda\, WA\, 6062\, Australia
CATEGORIES:Umpiring Clinic
GEO:-31.869097964501;115.91504453101
X-APPLE-STRUCTURED-LOCATION;VALUE=URI;X-ADDRESS=Lightning Park Noranda 30 Della Rd Noranda WA 6062 Australia;X-APPLE-RADIUS=500;X-TITLE=30 Della Rd:geo:115.91504453101,-31.869097964501
END:VEVENT
BEGIN:VEVENT
DTSTART;TZID=Australia/Perth:20250118T123000
DTEND;TZID=Australia/Perth:20250118T143000
DTSTAMP:20260423T173757
CREATED:20241206T101958Z
LAST-MODIFIED:20241206T101958Z
UID:10000089-1737203400-1737210600@tbawa.com.au
SUMMARY:State Champs Accreditation (SCA) - Morley Eagles
DESCRIPTION:
URL:https://tbawa.com.au/event/state-champs-accreditation-sca-morley-jan-2025/
LOCATION:Lightning Park\, Noranda\, 30 Della Rd\, Noranda\, WA\, 6062\, Australia
CATEGORIES:Umpiring Clinic
GEO:-31.869097964501;115.91504453101
X-APPLE-STRUCTURED-LOCATION;VALUE=URI;X-ADDRESS=Lightning Park Noranda 30 Della Rd Noranda WA 6062 Australia;X-APPLE-RADIUS=500;X-TITLE=30 Della Rd:geo:115.91504453101,-31.869097964501
END:VEVENT
BEGIN:VEVENT
DTSTART;TZID=Australia/Perth:20250502T150000
DTEND;TZID=Australia/Perth:20250502T190000
DTSTAMP:20260423T173757
CREATED:20250726T141057Z
LAST-MODIFIED:20250726T141057Z
UID:10000094-1746198000-1746212400@tbawa.com.au
SUMMARY:Umpiring L1 Clinic - Tom Price
DESCRIPTION:
URL:https://tbawa.com.au/event/umpiring-l1-clinic-tom-price/
LOCATION:Tom Price\, Stadium Rd\, Tom Price\, WA\, Australia
CATEGORIES:Umpiring Clinic
GEO:-22.6946404;117.7974621
X-APPLE-STRUCTURED-LOCATION;VALUE=URI;X-ADDRESS=Tom Price Stadium Rd Tom Price WA Australia;X-APPLE-RADIUS=500;X-TITLE=Stadium Rd:geo:117.7974621,-22.6946404
END:VEVENT
BEGIN:VEVENT
DTSTART;TZID=Australia/Perth:20251011T080000
DTEND;TZID=Australia/Perth:20251011T120000
DTSTAMP:20260423T173757
CREATED:20250805T100655Z
LAST-MODIFIED:20251011T220812Z
UID:10000112-1760169600-1760184000@tbawa.com.au
SUMMARY:Umpiring L1 Clinic - Cloverdale Comets
DESCRIPTION:
URL:https://tbawa.com.au/event/umpiring-l1-clinic-cloverdale-comets-2025/
LOCATION:Redcliffe Park\, 30 Morgan Rd\, Redcliffe\, WA\, 6104\, Australia
CATEGORIES:Umpiring Clinic
GEO:-31.94661;115.94713
X-APPLE-STRUCTURED-LOCATION;VALUE=URI;X-ADDRESS=Redcliffe Park 30 Morgan Rd Redcliffe WA 6104 Australia;X-APPLE-RADIUS=500;X-TITLE=30 Morgan Rd:geo:115.94713,-31.94661
END:VEVENT
BEGIN:VEVENT
DTSTART;TZID=Australia/Perth:20251012T083000
DTEND;TZID=Australia/Perth:20251012T123000
DTSTAMP:20260423T173757
CREATED:20250805T100309Z
LAST-MODIFIED:20251006T000036Z
UID:10000110-1760257800-1760272200@tbawa.com.au
SUMMARY:Umpiring L1 Clinic - Morley Eagles
DESCRIPTION:Content is protected.
URL:https://tbawa.com.au/event/umpiring-l1-clinic-morley-2025/
LOCATION:Lightning Park\, Noranda\, 30 Della Rd\, Noranda\, WA\, 6062\, Australia
CATEGORIES:Umpiring Clinic
GEO:-31.869097964501;115.91504453101
X-APPLE-STRUCTURED-LOCATION;VALUE=URI;X-ADDRESS=Lightning Park Noranda 30 Della Rd Noranda WA 6062 Australia;X-APPLE-RADIUS=500;X-TITLE=30 Della Rd:geo:115.91504453101,-31.869097964501
END:VEVENT
BEGIN:VEVENT
DTSTART;TZID=Australia/Perth:20251012T083000
DTEND;TZID=Australia/Perth:20251012T123000
DTSTAMP:20260423T173757
CREATED:20250805T100437Z
LAST-MODIFIED:20251008T050311Z
UID:10000111-1760257800-1760272200@tbawa.com.au
SUMMARY:Umpiring L1 Clinic - Thornlie Districts
DESCRIPTION:
URL:https://tbawa.com.au/event/umpiring-l1-clinic-thornlie-districts-2025/
LOCATION:Sutherlands Park\, Sutherlands Park\, Holmes Road\, Huntingdale\, WA
CATEGORIES:Umpiring Clinic
GEO:-32.09661243956;115.96400560645
X-APPLE-STRUCTURED-LOCATION;VALUE=URI;X-ADDRESS=Sutherlands Park Sutherlands Park Holmes Road Huntingdale WA;X-APPLE-RADIUS=500;X-TITLE=Sutherlands Park\, Holmes Road:geo:115.96400560645,-32.09661243956
END:VEVENT
BEGIN:VEVENT
DTSTART;TZID=Australia/Perth:20251026T083000
DTEND;TZID=Australia/Perth:20251026T123000
DTSTAMP:20260423T173757
CREATED:20250805T101130Z
LAST-MODIFIED:20250805T101130Z
UID:10000114-1761467400-1761481800@tbawa.com.au
SUMMARY:Umpiring L1 Clinic - Wanneroo Joondalup
DESCRIPTION:
URL:https://tbawa.com.au/event/umpiring-l1-clinic-wanneroo-joondalup-2025/
LOCATION:Percy Doyle Reserve\, Percy Doyle Reserve\, Beddi Rd\, Duncraig\, WA\, AUS
CATEGORIES:Umpiring Clinic
GEO:-31.8366559;115.7680905
X-APPLE-STRUCTURED-LOCATION;VALUE=URI;X-ADDRESS=Percy Doyle Reserve Percy Doyle Reserve Beddi Rd Duncraig WA AUS;X-APPLE-RADIUS=500;X-TITLE=Percy Doyle Reserve\, Beddi Rd:geo:115.7680905,-31.8366559
END:VEVENT
BEGIN:VEVENT
DTSTART;TZID=Australia/Perth:20251102T083000
DTEND;TZID=Australia/Perth:20251102T123000
DTSTAMP:20260423T173757
CREATED:20250805T101307Z
LAST-MODIFIED:20251029T081633Z
UID:10000115-1762072200-1762086600@tbawa.com.au
SUMMARY:Umpiring L1 Clinic - Yangebup Knights
DESCRIPTION:
URL:https://tbawa.com.au/event/umpiring-l1-clinic-yangebup-knights-2025/
LOCATION:Aubin Grove Reserve\, Aubin Grove Reserve\, Camden Blvd\, Aubin Grove\, WA\, AUS
CATEGORIES:Umpiring Clinic
GEO:-32.1721519;115.8644542
X-APPLE-STRUCTURED-LOCATION;VALUE=URI;X-ADDRESS=Aubin Grove Reserve Aubin Grove Reserve Camden Blvd Aubin Grove WA AUS;X-APPLE-RADIUS=500;X-TITLE=Aubin Grove Reserve\, Camden Blvd:geo:115.8644542,-32.1721519
END:VEVENT
BEGIN:VEVENT
DTSTART;TZID=Australia/Perth:20251102T083000
DTEND;TZID=Australia/Perth:20251102T123000
DTSTAMP:20260423T173757
CREATED:20250805T101418Z
LAST-MODIFIED:20251024T231054Z
UID:10000116-1762072200-1762086600@tbawa.com.au
SUMMARY:Umpiring L1 Clinic - Carine Cats
DESCRIPTION:
URL:https://tbawa.com.au/event/umpiring-l1-clinic-carine-cats-2025/
LOCATION:Carine Regional Open Space\, carine hall\, Carine\, WA\, 6020\, Australia
CATEGORIES:Umpiring Clinic
GEO:-31.8476785;115.7873454
X-APPLE-STRUCTURED-LOCATION;VALUE=URI;X-ADDRESS=Carine Regional Open Space carine hall Carine WA 6020 Australia;X-APPLE-RADIUS=500;X-TITLE=carine hall:geo:115.7873454,-31.8476785
END:VEVENT
BEGIN:VEVENT
DTSTART;TZID=Australia/Perth:20251108T130000
DTEND;TZID=Australia/Perth:20251108T170000
DTSTAMP:20260423T173757
CREATED:20251022T220811Z
LAST-MODIFIED:20251022T220811Z
UID:10000187-1762606800-1762621200@tbawa.com.au
SUMMARY:Umpiring Level 1 Clinic - Goldfields
DESCRIPTION:Please ensure that your have watched and completed the online video theory component of this level 1 umpire course. \nPresentor’s of this clinic is Paul & John \nKeep in contact with your Tee Ball club for any current up to date information of the times \, date and location.
URL:https://tbawa.com.au/event/umpiring-level-1-clinic-goldfields/
LOCATION:Oasis Playing Fields\, Osmetti Drive\, Boulder\, WA\, Australia
CATEGORIES:Umpiring Clinic
ORGANIZER;CN="Goldfields Tee Ball Association":MAILTO:gtbapresident@gmail.com
GEO:-30.7738796;121.4608146
X-APPLE-STRUCTURED-LOCATION;VALUE=URI;X-ADDRESS=Oasis Playing Fields Osmetti Drive Boulder WA Australia;X-APPLE-RADIUS=500;X-TITLE=Osmetti Drive:geo:121.4608146,-30.7738796
END:VEVENT
BEGIN:VEVENT
DTSTART;TZID=Australia/Perth:20251130T083000
DTEND;TZID=Australia/Perth:20251130T123000
DTSTAMP:20260423T173757
CREATED:20250805T101014Z
LAST-MODIFIED:20251129T044838Z
UID:10000113-1764491400-1764505800@tbawa.com.au
SUMMARY:Umpiring L1 Clinic - Canning Cougars
DESCRIPTION:Content is protected.
URL:https://tbawa.com.au/event/umpiring-l1-clinic-swan-districts-2025/
LOCATION:Centenary Park\, Centenary Park\, Centenary Ave\, Wilson\, WA\, AUS
CATEGORIES:Umpiring Clinic
GEO:-32.0191805;115.9023559
X-APPLE-STRUCTURED-LOCATION;VALUE=URI;X-ADDRESS=Centenary Park Centenary Park Centenary Ave Wilson WA AUS;X-APPLE-RADIUS=500;X-TITLE=Centenary Park\, Centenary Ave:geo:115.9023559,-32.0191805
END:VEVENT
BEGIN:VEVENT
DTSTART;TZID=Australia/Perth:20251213T080000
DTEND;TZID=Australia/Perth:20251213T170000
DTSTAMP:20260423T173757
CREATED:20251127T010510Z
LAST-MODIFIED:20251127T010748Z
UID:10000191-1765612800-1765645200@tbawa.com.au
SUMMARY:Temp Special Listing
DESCRIPTION:Content is protected.
URL:https://tbawa.com.au/event/temp-special-listing/
LOCATION:WA
CATEGORIES:Umpiring Clinic
END:VEVENT
BEGIN:VEVENT
DTSTART;TZID=Australia/Perth:20260130T190000
DTEND;TZID=Australia/Perth:20260130T213000
DTSTAMP:20260423T173757
CREATED:20251101T010424Z
LAST-MODIFIED:20260104T235236Z
UID:10000188-1769799600-1769808600@tbawa.com.au
SUMMARY:SCA (state carnival accreditation) Umpire accreditation clinic (north)
DESCRIPTION:Registrations close 28/01/2026 at 11:30pm \nTime and location of this event are confirmed.
URL:https://tbawa.com.au/event/9928/
LOCATION:Woodlands Reserve\, Woodlands\, Woodlands Reserve\, Woodlands\, WA\, 6018\, Australia
CATEGORIES:Umpiring Clinic
GEO:-31.912492;115.790219
X-APPLE-STRUCTURED-LOCATION;VALUE=URI;X-ADDRESS=Woodlands Reserve Woodlands Woodlands Reserve Woodlands WA 6018 Australia;X-APPLE-RADIUS=500;X-TITLE=Woodlands Reserve:geo:115.790219,-31.912492
END:VEVENT
BEGIN:VEVENT
DTSTART;TZID=Australia/Perth:20260206T190000
DTEND;TZID=Australia/Perth:20260206T213000
DTSTAMP:20260423T173757
CREATED:20251106T011048Z
LAST-MODIFIED:20260104T235018Z
UID:10000190-1770404400-1770413400@tbawa.com.au
SUMMARY:SCA (state carnival accreditation) Umpire accreditation clinic (south)
DESCRIPTION:Registrations close 04/02/2026 at 11:30pm \nTime and location of this event are confirmed.
URL:https://tbawa.com.au/event/sca-state-carnival-accreditation-umpire-accreditation-clinic/
LOCATION:Aubin Grove Reserve\, Aubin Grove Reserve\, Camden Blvd\, Aubin Grove\, WA\, AUS
CATEGORIES:Umpiring Clinic
GEO:-32.1721519;115.8644542
X-APPLE-STRUCTURED-LOCATION;VALUE=URI;X-ADDRESS=Aubin Grove Reserve Aubin Grove Reserve Camden Blvd Aubin Grove WA AUS;X-APPLE-RADIUS=500;X-TITLE=Aubin Grove Reserve\, Camden Blvd:geo:115.8644542,-32.1721519
END:VEVENT
BEGIN:VEVENT
DTSTART;TZID=Australia/Perth:20260227T190000
DTEND;TZID=Australia/Perth:20260227T213000
DTSTAMP:20260423T173757
CREATED:20251101T011125Z
LAST-MODIFIED:20260218T134641Z
UID:10000189-1772218800-1772227800@tbawa.com.au
SUMMARY:SCA (state carnival accreditation) Umpire accreditation clinic (COUNTRY CLUBS and METRO CLUBS)
DESCRIPTION:“FOR UMPIRES ASSOCIATED WITH COUNTRY CLUBS and METRO CLUBS” \nRegistrations close 25/02/2026 at 11:30pm. \nTime and location of this event are confirmed.
URL:https://tbawa.com.au/event/sca-state-carnival-accreditation-umpire-accreditation-clinic-country-clubs-only/
LOCATION:Woodlands Reserve\, Woodlands\, Woodlands Reserve\, Woodlands\, WA\, 6018\, Australia
CATEGORIES:Umpiring Clinic
GEO:-31.912492;115.790219
X-APPLE-STRUCTURED-LOCATION;VALUE=URI;X-ADDRESS=Woodlands Reserve Woodlands Woodlands Reserve Woodlands WA 6018 Australia;X-APPLE-RADIUS=500;X-TITLE=Woodlands Reserve:geo:115.790219,-31.912492
END:VEVENT
END:VCALENDAR