BEGIN:VCALENDAR
VERSION:2.0
PRODID:-//Tee-Ball Association of WA - ECPv6.15.20//NONSGML v1.0//EN
CALSCALE:GREGORIAN
METHOD:PUBLISH
X-ORIGINAL-URL:https://tbawa.com.au
X-WR-CALDESC:Events for Tee-Ball Association of WA
REFRESH-INTERVAL;VALUE=DURATION:PT1H
X-Robots-Tag:noindex
X-PUBLISHED-TTL:PT1H
BEGIN:VTIMEZONE
TZID:Australia/Perth
BEGIN:STANDARD
TZOFFSETFROM:+0800
TZOFFSETTO:+0800
TZNAME:AWST
DTSTART:20230101T000000
END:STANDARD
END:VTIMEZONE
BEGIN:VEVENT
DTSTART;TZID=Australia/Perth:20241102T123000
DTEND;TZID=Australia/Perth:20241102T163000
DTSTAMP:20260422T165043
CREATED:20240701T024405Z
LAST-MODIFIED:20240701T024405Z
UID:10000067-1730550600-1730565000@tbawa.com.au
SUMMARY:Umpiring L1 Clinic - Goldfields
DESCRIPTION:Presenters : Paul Planken & John Van Emmerloot
URL:https://tbawa.com.au/event/umpiring-l1-clinic-goldfields/
LOCATION:Oasis Playing Fields\, Osmetti Drive\, Boulder\, WA\, Australia
CATEGORIES:Umpiring Clinic
GEO:-30.7738796;121.4608146
X-APPLE-STRUCTURED-LOCATION;VALUE=URI;X-ADDRESS=Oasis Playing Fields Osmetti Drive Boulder WA Australia;X-APPLE-RADIUS=500;X-TITLE=Osmetti Drive:geo:121.4608146,-30.7738796
END:VEVENT
BEGIN:VEVENT
DTSTART;TZID=Australia/Perth:20241110T083000
DTEND;TZID=Australia/Perth:20241110T123000
DTSTAMP:20260422T165043
CREATED:20240807T084116Z
LAST-MODIFIED:20240807T084116Z
UID:10000075-1731227400-1731241800@tbawa.com.au
SUMMARY:Umpiring L1 Clinic - Forrestfield
DESCRIPTION:Presenters : Chris Hardwick & Annaliese Arndt
URL:https://tbawa.com.au/event/umpiring-l1-clinic-forrestfield/
LOCATION:Hartfield Park\, 62 Hartfield Road\, Forrestfield\, WA\, Australia
CATEGORIES:Umpiring Clinic
GEO:-31.995877198678;116.00458497103
X-APPLE-STRUCTURED-LOCATION;VALUE=URI;X-ADDRESS=Hartfield Park 62 Hartfield Road Forrestfield WA Australia;X-APPLE-RADIUS=500;X-TITLE=62 Hartfield Road:geo:116.00458497103,-31.995877198678
END:VEVENT
END:VCALENDAR