BEGIN:VCALENDAR
VERSION:2.0
PRODID:-//Tee-Ball Association of WA - ECPv6.15.20//NONSGML v1.0//EN
CALSCALE:GREGORIAN
METHOD:PUBLISH
X-WR-CALNAME:Tee-Ball Association of WA
X-ORIGINAL-URL:https://tbawa.com.au
X-WR-CALDESC:Events for Tee-Ball Association of WA
REFRESH-INTERVAL;VALUE=DURATION:PT1H
X-Robots-Tag:noindex
X-PUBLISHED-TTL:PT1H
BEGIN:VTIMEZONE
TZID:Australia/Perth
BEGIN:STANDARD
TZOFFSETFROM:+0800
TZOFFSETTO:+0800
TZNAME:AWST
DTSTART:20230101T000000
END:STANDARD
END:VTIMEZONE
BEGIN:VEVENT
DTSTART;TZID=Australia/Perth:20240301T183000
DTEND;TZID=Australia/Perth:20240301T200000
DTSTAMP:20260423T063046
CREATED:20240212T094429Z
LAST-MODIFIED:20240212T094429Z
UID:10000052-1709317800-1709323200@tbawa.com.au
SUMMARY:State Champs Accreditation (SCA) - Woodlands
DESCRIPTION:
URL:https://tbawa.com.au/event/state-champs-accreditation-sca-woodlands-5/
LOCATION:Woodlands Reserve\, Woodlands\, Woodlands Reserve\, Woodlands\, WA\, 6018\, Australia
CATEGORIES:Umpiring Clinic
GEO:-31.912492;115.790219
X-APPLE-STRUCTURED-LOCATION;VALUE=URI;X-ADDRESS=Woodlands Reserve Woodlands Woodlands Reserve Woodlands WA 6018 Australia;X-APPLE-RADIUS=500;X-TITLE=Woodlands Reserve:geo:115.790219,-31.912492
END:VEVENT
END:VCALENDAR