BEGIN:VCALENDAR
VERSION:2.0
PRODID:-//Tee-Ball Association of WA - ECPv6.15.20//NONSGML v1.0//EN
CALSCALE:GREGORIAN
METHOD:PUBLISH
X-ORIGINAL-URL:https://tbawa.com.au
X-WR-CALDESC:Events for Tee-Ball Association of WA
REFRESH-INTERVAL;VALUE=DURATION:PT1H
X-Robots-Tag:noindex
X-PUBLISHED-TTL:PT1H
BEGIN:VTIMEZONE
TZID:Australia/Perth
BEGIN:STANDARD
TZOFFSETFROM:+0800
TZOFFSETTO:+0800
TZNAME:AWST
DTSTART:20230101T000000
END:STANDARD
END:VTIMEZONE
BEGIN:VEVENT
DTSTART;TZID=Australia/Perth:20240202T190000
DTEND;TZID=Australia/Perth:20240202T203000
DTSTAMP:20260423T074514
CREATED:20240115T234221Z
LAST-MODIFIED:20240115T234221Z
UID:10000048-1706900400-1706905800@tbawa.com.au
SUMMARY:State Champs Accreditation (SCA) - Woodlands
DESCRIPTION:
URL:https://tbawa.com.au/event/state-champs-accreditation-sca-woodlands-4/
LOCATION:Woodlands Reserve\, Woodlands\, Woodlands Reserve\, Woodlands\, WA\, 6018\, Australia
CATEGORIES:Umpiring Clinic
GEO:-31.912492;115.790219
X-APPLE-STRUCTURED-LOCATION;VALUE=URI;X-ADDRESS=Woodlands Reserve Woodlands Woodlands Reserve Woodlands WA 6018 Australia;X-APPLE-RADIUS=500;X-TITLE=Woodlands Reserve:geo:115.790219,-31.912492
END:VEVENT
BEGIN:VEVENT
DTSTART;TZID=Australia/Perth:20240209T190000
DTEND;TZID=Australia/Perth:20240209T203000
DTSTAMP:20260423T074514
CREATED:20240115T234553Z
LAST-MODIFIED:20240115T234553Z
UID:10000049-1707505200-1707510600@tbawa.com.au
SUMMARY:State Champs Accreditation (SCA) - Thornlie (Gosnells Junior Football Club rooms\, off Gay Street)
DESCRIPTION:
URL:https://tbawa.com.au/event/state-champs-accreditation-sca-thornlie-gosnells-junior-football-club-rooms-off-gay-street/
LOCATION:Gosnells Junior Football Clubrooms
CATEGORIES:Umpiring Clinic
GEO:-32.0950747;115.9671881
END:VEVENT
END:VCALENDAR