BEGIN:VCALENDAR
VERSION:2.0
PRODID:-//Tee-Ball Association of WA - ECPv6.15.20//NONSGML v1.0//EN
CALSCALE:GREGORIAN
METHOD:PUBLISH
X-ORIGINAL-URL:https://tbawa.com.au
X-WR-CALDESC:Events for Tee-Ball Association of WA
REFRESH-INTERVAL;VALUE=DURATION:PT1H
X-Robots-Tag:noindex
X-PUBLISHED-TTL:PT1H
BEGIN:VTIMEZONE
TZID:Australia/Perth
BEGIN:STANDARD
TZOFFSETFROM:+0800
TZOFFSETTO:+0800
TZNAME:AWST
DTSTART:20220101T000000
END:STANDARD
END:VTIMEZONE
BEGIN:VEVENT
DTSTART;TZID=Australia/Perth:20231001T083000
DTEND;TZID=Australia/Perth:20231001T123000
DTSTAMP:20260423T133035
CREATED:20230905T222454Z
LAST-MODIFIED:20230905T222454Z
UID:10000029-1696149000-1696163400@tbawa.com.au
SUMMARY:Umpiring L1 Clinic - Swan Districts
DESCRIPTION:Presenters : Annaliese Arndt & Paul Planken
URL:https://tbawa.com.au/event/umpiring-l1-clinic-swan-districts-5/
LOCATION:Ron Jose Oval\, Gray Drive\, MIDVALE\, WA\, 6056\, Australia
CATEGORIES:Umpiring Clinic
GEO:-31.882057;116.02429
X-APPLE-STRUCTURED-LOCATION;VALUE=URI;X-ADDRESS=Ron Jose Oval Gray Drive MIDVALE WA 6056 Australia;X-APPLE-RADIUS=500;X-TITLE=Gray Drive:geo:116.02429,-31.882057
END:VEVENT
BEGIN:VEVENT
DTSTART;TZID=Australia/Perth:20231001T083000
DTEND;TZID=Australia/Perth:20231001T123000
DTSTAMP:20260423T133035
CREATED:20230905T222554Z
LAST-MODIFIED:20230905T222554Z
UID:10000030-1696149000-1696163400@tbawa.com.au
SUMMARY:Umpiring L1 Clinic - Willetton
DESCRIPTION:Presenters : Chris Hardwick & Colin Gibb
URL:https://tbawa.com.au/event/umpiring-l1-clinic-willetton-3/
LOCATION:Willetton Reserve\, Willetton Reserve\, Apsley Rd\, Willetton\, WA\, AUS
CATEGORIES:Umpiring Clinic
GEO:-32.053;115.889
X-APPLE-STRUCTURED-LOCATION;VALUE=URI;X-ADDRESS=Willetton Reserve Willetton Reserve Apsley Rd Willetton WA AUS;X-APPLE-RADIUS=500;X-TITLE=Willetton Reserve\, Apsley Rd:geo:115.889,-32.053
END:VEVENT
BEGIN:VEVENT
DTSTART;TZID=Australia/Perth:20231007T080000
DTEND;TZID=Australia/Perth:20231007T120000
DTSTAMP:20260423T133035
CREATED:20230905T222709Z
LAST-MODIFIED:20230905T222709Z
UID:10000031-1696665600-1696680000@tbawa.com.au
SUMMARY:Umpiring L1 Clinic - Woodlands
DESCRIPTION:Presenters : Rick Moore & Paul Planken
URL:https://tbawa.com.au/event/umpiring-l1-clinic-woodlands-4/
LOCATION:Woodlands Reserve\, Woodlands\, Woodlands Reserve\, Woodlands\, WA\, 6018\, Australia
CATEGORIES:Umpiring Clinic
GEO:-31.912492;115.790219
X-APPLE-STRUCTURED-LOCATION;VALUE=URI;X-ADDRESS=Woodlands Reserve Woodlands Woodlands Reserve Woodlands WA 6018 Australia;X-APPLE-RADIUS=500;X-TITLE=Woodlands Reserve:geo:115.790219,-31.912492
END:VEVENT
BEGIN:VEVENT
DTSTART;TZID=Australia/Perth:20231008T083000
DTEND;TZID=Australia/Perth:20231008T123000
DTSTAMP:20260423T133035
CREATED:20230905T222808Z
LAST-MODIFIED:20230905T222808Z
UID:10000032-1696753800-1696768200@tbawa.com.au
SUMMARY:Umpiring L1 Clinic - Carine Cats
DESCRIPTION:Presenters : Paul Planken & Rebecca Seeber
URL:https://tbawa.com.au/event/umpiring-l1-clinic-carine-cats/
LOCATION:Carine Regional Open Space\, carine hall\, Carine\, WA\, 6020\, Australia
CATEGORIES:Umpiring Clinic
GEO:-31.8476785;115.7873454
X-APPLE-STRUCTURED-LOCATION;VALUE=URI;X-ADDRESS=Carine Regional Open Space carine hall Carine WA 6020 Australia;X-APPLE-RADIUS=500;X-TITLE=carine hall:geo:115.7873454,-31.8476785
END:VEVENT
BEGIN:VEVENT
DTSTART;TZID=Australia/Perth:20231008T083000
DTEND;TZID=Australia/Perth:20231008T123000
DTSTAMP:20260423T133035
CREATED:20230905T222908Z
LAST-MODIFIED:20230905T222908Z
UID:10000033-1696753800-1696768200@tbawa.com.au
SUMMARY:Umpiring L1 Clinic - Secret Harbour
DESCRIPTION:Presenters : Geoff Watson & Colin Gibb
URL:https://tbawa.com.au/event/umpiring-l1-clinic-secret-harbour-2/
LOCATION:Lark Hill Sporting Complex\, Lark Hill Sporting Complex\, Warnbro Sound Ave\, Port Kennedy\, WA\, 6172\, Australia
CATEGORIES:Umpiring Clinic
GEO:-32.3912023;115.7594204
X-APPLE-STRUCTURED-LOCATION;VALUE=URI;X-ADDRESS=Lark Hill Sporting Complex Lark Hill Sporting Complex Warnbro Sound Ave Port Kennedy WA 6172 Australia;X-APPLE-RADIUS=500;X-TITLE=Lark Hill Sporting Complex\, Warnbro Sound Ave:geo:115.7594204,-32.3912023
END:VEVENT
BEGIN:VEVENT
DTSTART;TZID=Australia/Perth:20231015T083000
DTEND;TZID=Australia/Perth:20231015T123000
DTSTAMP:20260423T133035
CREATED:20230905T223010Z
LAST-MODIFIED:20230905T223010Z
UID:10000034-1697358600-1697373000@tbawa.com.au
SUMMARY:Umpiring L1 Clinic - Kalamunda
DESCRIPTION:Presenters : Annaliese Arndt & Glen Bakranich
URL:https://tbawa.com.au/event/umpiring-l1-clinic-kalamunda-2/
LOCATION:Maida Vale Recreation Reserve\, 35 Acacia Rd\, Maida Vale\, WA\, 6057\, Australia
CATEGORIES:Umpiring Clinic
GEO:-31.9488401;116.0260884
X-APPLE-STRUCTURED-LOCATION;VALUE=URI;X-ADDRESS=Maida Vale Recreation Reserve 35 Acacia Rd Maida Vale WA 6057 Australia;X-APPLE-RADIUS=500;X-TITLE=35 Acacia Rd:geo:116.0260884,-31.9488401
END:VEVENT
BEGIN:VEVENT
DTSTART;TZID=Australia/Perth:20231015T083000
DTEND;TZID=Australia/Perth:20231015T123000
DTSTAMP:20260423T133035
CREATED:20230905T223116Z
LAST-MODIFIED:20230905T223116Z
UID:10000035-1697358600-1697373000@tbawa.com.au
SUMMARY:Umpiring L1 Clinic - Morley Eagles
DESCRIPTION:Presenters : Rick Moore\, Rebecca Seeber & Greg Mount Bryson
URL:https://tbawa.com.au/event/umpiring-l1-clinic-morley-eagles/
LOCATION:Lightning Park\, Noranda\, 30 Della Rd\, Noranda\, WA\, 6062\, Australia
CATEGORIES:Umpiring Clinic
GEO:-31.869097964501;115.91504453101
X-APPLE-STRUCTURED-LOCATION;VALUE=URI;X-ADDRESS=Lightning Park Noranda 30 Della Rd Noranda WA 6062 Australia;X-APPLE-RADIUS=500;X-TITLE=30 Della Rd:geo:115.91504453101,-31.869097964501
END:VEVENT
BEGIN:VEVENT
DTSTART;TZID=Australia/Perth:20231029T083000
DTEND;TZID=Australia/Perth:20231029T123000
DTSTAMP:20260423T133035
CREATED:20230905T223230Z
LAST-MODIFIED:20230905T223230Z
UID:10000036-1698568200-1698582600@tbawa.com.au
SUMMARY:Umpiring L1 Clinic - Thornlie
DESCRIPTION:Presenters : Glen Bakranich\, Colin Gibb\, Geoff Watson & Stuart Sutton
URL:https://tbawa.com.au/event/umpiring-l1-clinic-thornlie-2/
LOCATION:Sutherlands Park\, Sutherlands Park\, Holmes Road\, Huntingdale\, WA
CATEGORIES:Umpiring Clinic
GEO:-32.09661243956;115.96400560645
X-APPLE-STRUCTURED-LOCATION;VALUE=URI;X-ADDRESS=Sutherlands Park Sutherlands Park Holmes Road Huntingdale WA;X-APPLE-RADIUS=500;X-TITLE=Sutherlands Park\, Holmes Road:geo:115.96400560645,-32.09661243956
END:VEVENT
BEGIN:VEVENT
DTSTART;TZID=Australia/Perth:20231029T083000
DTEND;TZID=Australia/Perth:20231029T123000
DTSTAMP:20260423T133035
CREATED:20230905T223349Z
LAST-MODIFIED:20230905T223349Z
UID:10000037-1698568200-1698582600@tbawa.com.au
SUMMARY:Umpiring L1 Clinic - Wanneroo Joondalup
DESCRIPTION:Presenters : Rebecca Seeber\, Rick Moore & Barry Broanda
URL:https://tbawa.com.au/event/umpiring-l1-clinic-wanneroo-joondalup/
LOCATION:Percy Doyle Reserve\, Percy Doyle Reserve\, Beddi Rd\, Duncraig\, WA\, AUS
CATEGORIES:Umpiring Clinic
GEO:-31.8366559;115.7680905
X-APPLE-STRUCTURED-LOCATION;VALUE=URI;X-ADDRESS=Percy Doyle Reserve Percy Doyle Reserve Beddi Rd Duncraig WA AUS;X-APPLE-RADIUS=500;X-TITLE=Percy Doyle Reserve\, Beddi Rd:geo:115.7680905,-31.8366559
END:VEVENT
END:VCALENDAR